View In:
ArcGIS JavaScript
ArcGIS Online Map Viewer
ArcGIS Earth
Service Description: Imagery/2014_Aerial_Imagery
Name: Imagery/2014_Aerial_Imagery
Description:
Single Fused Map Cache: false
Extent:
XMin: 594998.9000000004
YMin: 4813999.000000001
XMax: 619001.0000000003
YMax: 4846001.050000001
Spatial Reference: 26917
(26917)
LatestVCSWkid(0)
Initial Extent:
XMin: 594998.9000000004
YMin: 4813999.000000001
XMax: 619001.0000000003
YMax: 4846001.050000001
Spatial Reference: 26917
(26917)
LatestVCSWkid(0)
Full Extent:
XMin: 594998.9000000004
YMin: 4813999.000000001
XMax: 619001.0000000003
YMax: 4846001.050000001
Spatial Reference: 26917
(26917)
LatestVCSWkid(0)
Pixel Size X: 0.14999999999999986
Pixel Size Y: 0.14999999999999913
Band Count: 3
Pixel Type: U8
RasterFunction Infos: {"rasterFunctionInfos": [{
"name": "None",
"description": "",
"help": ""
}]}
Mensuration Capabilities: None
Inspection Capabilities:
Has Histograms: true
Has Colormap: false
Has Multi Dimensions : false
Rendering Rule:
Min Scale: 0
Max Scale: 0
Copyright Text:
Service Data Type: esriImageServiceDataTypeRGB
Min Values: 0, 3, 0
Max Values: 255, 255, 255
Mean Values: 121.7050305651064, 118.15140562619426, 113.31911494878177
Standard Deviation Values: 32.80163993852861, 30.221680296511575, 30.009200736791016
Object ID Field: OBJECTID
Fields:
-
OBJECTID
(
type: esriFieldTypeOID, alias: OBJECTID
)
-
Shape
(
type: esriFieldTypeGeometry, alias: Shape
)
-
Name
(
type: esriFieldTypeString, alias: Name, length: 200
)
-
Category
(
type: esriFieldTypeInteger, alias: Category
, Coded Values:
[0: Unknown]
, [1: Primary]
, [2: Overview]
, ...6 more...
)
-
Image_Date
(
type: esriFieldTypeDouble, alias: AcquisitionYear
)
-
Resolution
(
type: esriFieldTypeString, alias: PixelSize, length: 255
)
-
Shape_Length
(
type: esriFieldTypeDouble, alias: Shape_Length
)
Default Mosaic Method: Northwest
Allowed Mosaic Methods: NorthWest,LockRaster,ByAttribute,None
SortField:
SortValue: null
Mosaic Operator: First
Default Compression Quality: 75
Default Resampling Method: Bilinear
Max Record Count: 1000
Max Image Height: 4100
Max Image Width: 15000
Max Download Image Count: 0
Max Mosaic Image Count: 20
Allow Raster Function: true
Allow Copy: true
Allow Analysis: true
Allow Compute TiePoints: false
Supports Statistics: true
Supports Advanced Queries: true
Use StandardizedQueries: true
Raster Type Infos:
Name: Raster Dataset
Description: Supports all ArcGIS Raster Datasets
Help:
Has Raster Attribute Table: false
Edit Fields Info: null
Ownership Based AccessControl For Rasters: null
Child Resources:
Info
Histograms
Statistics
Key Properties
Legend
Raster Function Infos
Supported Operations:
Export Image
Query
Identify
Compute Histograms
Compute Statistics Histograms
Get Samples
Compute Class Statistics
Query GPS Info
Find Images
Image to Map
Map to Image
Measure from Image
Image to Map Multiray
Query Boundary
Compute Pixel Location
Compute Angles
Validate
Project