View In:
ArcGIS JavaScript
ArcGIS Online Map Viewer
ArcGIS Earth
Service Description: Imagery/2021_Aerial_Imagery
Name: Imagery/2021_Aerial_Imagery
Description:
Single Fused Map Cache: false
Extent:
XMin: 595162.275
YMin: 4814562.325
XMax: 618579.3
YMax: 4844382.55
Spatial Reference: 26917
(26917)
LatestVCSWkid(0)
Initial Extent:
XMin: 595162.275
YMin: 4814562.325
XMax: 618579.3
YMax: 4844382.55
Spatial Reference: 26917
(26917)
LatestVCSWkid(0)
Full Extent:
XMin: 595162.275
YMin: 4814562.325
XMax: 618579.3
YMax: 4844382.55
Spatial Reference: 26917
(26917)
LatestVCSWkid(0)
Pixel Size X: 0.07500000000000008
Pixel Size Y: 0.07499999999999907
Band Count: 3
Pixel Type: U8
RasterFunction Infos: {"rasterFunctionInfos": [{
"name": "None",
"description": "",
"help": ""
}]}
Mensuration Capabilities: None
Inspection Capabilities:
Has Histograms: true
Has Colormap: false
Has Multi Dimensions : false
Rendering Rule:
Min Scale: 0
Max Scale: 0
Copyright Text:
Service Data Type: esriImageServiceDataTypeRGB
Min Values: 0, 0, 1
Max Values: 255, 255, 255
Mean Values: 113.82794127609107, 111.93023003745189, 94.98298671260478
Standard Deviation Values: 33.314629803586065, 31.586871913304538, 28.23098420143296
Object ID Field: OBJECTID
Fields:
-
OBJECTID
(
type: esriFieldTypeOID, alias: OBJECTID
)
-
Shape
(
type: esriFieldTypeGeometry, alias: Shape
)
-
Name
(
type: esriFieldTypeString, alias: Name, length: 200
)
-
Category
(
type: esriFieldTypeInteger, alias: Category
, Coded Values:
[0: Unknown]
, [1: Primary]
, [2: Overview]
, ...6 more...
)
-
Image_Date
(
type: esriFieldTypeDouble, alias: AcquisitionYear
)
-
Resolution
(
type: esriFieldTypeString, alias: PixelSize, length: 255
)
-
Shape_Length
(
type: esriFieldTypeDouble, alias: Shape_Length
)
Default Mosaic Method: Northwest
Allowed Mosaic Methods: NorthWest,LockRaster,ByAttribute,None
SortField:
SortValue: null
Mosaic Operator: First
Default Compression Quality: 75
Default Resampling Method: Bilinear
Max Record Count: 1000
Max Image Height: 4100
Max Image Width: 15000
Max Download Image Count: 0
Max Mosaic Image Count: 20
Allow Raster Function: true
Allow Copy: true
Allow Analysis: true
Allow Compute TiePoints: false
Supports Statistics: true
Supports Advanced Queries: true
Use StandardizedQueries: true
Raster Type Infos:
Name: Raster Dataset
Description: Supports all ArcGIS Raster Datasets
Help:
Has Raster Attribute Table: false
Edit Fields Info: null
Ownership Based AccessControl For Rasters: null
Child Resources:
Info
Histograms
Statistics
Key Properties
Legend
Raster Function Infos
Supported Operations:
Export Image
Query
Identify
Compute Histograms
Compute Statistics Histograms
Get Samples
Compute Class Statistics
Query GPS Info
Find Images
Image to Map
Map to Image
Measure from Image
Image to Map Multiray
Query Boundary
Compute Pixel Location
Compute Angles
Validate
Project